BEGIN:VCALENDAR
VERSION:2.0
PRODID:-//Global Awakening Prayer - ECPv4.8.1//NONSGML v1.0//EN
CALSCALE:GREGORIAN
METHOD:PUBLISH
X-WR-CALNAME:Global Awakening Prayer
X-ORIGINAL-URL:https://globalawakeningprayer.com
X-WR-CALDESC:Events for Global Awakening Prayer
BEGIN:VEVENT
DTSTART;TZID=America/New_York:20171101T210000
DTEND;TZID=America/New_York:20171101T233000
DTSTAMP:20260419T130751
CREATED:20171105T200822Z
LAST-MODIFIED:20171105T200822Z
UID:1444-1509570000-1509579000@globalawakeningprayer.com
SUMMARY:Targeted Individual Prayer Meeting
DESCRIPTION:International On-Line Prayer and Bible Study for Targeted Individuals \n
URL:https://globalawakeningprayer.com/event/targeted-individual-prayer-meeting-20/
LOCATION:SCRIPTURES Study Conference Call
END:VEVENT
END:VCALENDAR