BEGIN:VCALENDAR
VERSION:2.0
PRODID:-//Global Awakening Prayer - ECPv4.8.1//NONSGML v1.0//EN
CALSCALE:GREGORIAN
METHOD:PUBLISH
X-WR-CALNAME:Global Awakening Prayer
X-ORIGINAL-URL:https://globalawakeningprayer.com
X-WR-CALDESC:Events for Global Awakening Prayer
BEGIN:VEVENT
DTSTART;TZID=America/New_York:20171219T150000
DTEND;TZID=America/New_York:20171219T170000
DTSTAMP:20260421T091619
CREATED:20171219T195922Z
LAST-MODIFIED:20171219T205113Z
UID:1795-1513695600-1513702800@globalawakeningprayer.com
SUMMARY:Children in Crisis Prayer Meeting
DESCRIPTION:International On-Line Prayer Meeting for Children in Crisis. \n
URL:https://globalawakeningprayer.com/event/children-in-crisis-prayer-meeting-19/
LOCATION:Prayer Conference Call\, Online\, FL\, United States
END:VEVENT
END:VCALENDAR