BEGIN:VCALENDAR
VERSION:2.0
PRODID:-//Global Awakening Prayer - ECPv4.8.1//NONSGML v1.0//EN
CALSCALE:GREGORIAN
METHOD:PUBLISH
X-WR-CALNAME:Global Awakening Prayer
X-ORIGINAL-URL:https://globalawakeningprayer.com
X-WR-CALDESC:Events for Global Awakening Prayer
BEGIN:VEVENT
DTSTART;TZID=America/New_York:20171030T090000
DTEND;TZID=America/New_York:20171030T093000
DTSTAMP:20260421T083000
CREATED:20171029T222353Z
LAST-MODIFIED:20171030T045912Z
UID:1400-1509354000-1509355800@globalawakeningprayer.com
SUMMARY:3 Ps to Awaken Your Day!
DESCRIPTION:International On-Line Morning Prayer Meeting \n
URL:https://globalawakeningprayer.com/event/3-ps-to-awaken-your-day/
LOCATION:Prayer Conference Call\, Online\, FL\, United States
END:VEVENT
END:VCALENDAR